BEGIN:VCALENDAR
VERSION:2.0
PRODID:-//Living Positive Victoria - ECPv4.5.4//NONSGML v1.0//EN
CALSCALE:GREGORIAN
METHOD:PUBLISH
X-WR-CALNAME:Living Positive Victoria
X-ORIGINAL-URL:https://livingpositivevictoria.org.au
X-WR-CALDESC:Events for Living Positive Victoria
BEGIN:VEVENT
DTSTART;TZID=UTC+0:20200314T130000
DTEND;TZID=UTC+0:20200314T160000
DTSTAMP:20200228T222353
CREATED:20191212T233834Z
LAST-MODIFIED:20191212T235234Z
UID:4574-1584190800-1584201600@livingpositivevictoria.org.au
SUMMARY:Planet Positive Autumn Social
DESCRIPTION:Planet Positive is a social event for positive people\, our family and friends. Everyone is welcome to join us for a delicious BBQ along with complementary drinks.\n\nA free raffle will give you the chance to go home with prizes and hampers.\n\nBring your partner\, family or friends but please register for catering purposes (call us if you intend on inviting a group).\n\n[button link="https://forms.livingpositivevictoria.org.au/civicrm/event/register?id=114&reset=1" newwindow="yes"] Register here[/button]
URL:https://livingpositivevictoria.org.au/event/planet-positive-autumn-social-2/
LOCATION:149 Gipps St\, Abbotsford\, Victoria\, 3067\, Australia
END:VEVENT
BEGIN:VEVENT
DTSTART;TZID=UTC+0:20200322T120000
DTEND;TZID=UTC+0:20200322T150000
DTSTAMP:20200228T222353
CREATED:20200213T233155Z
LAST-MODIFIED:20200213T233155Z
UID:4663-1584878400-1584889200@livingpositivevictoria.org.au
SUMMARY:Adult Social Lunch
DESCRIPTION:\n\nJoin us for a BBQ in the park at Edinburgh Gardens on Sunday 22 March.\n\nWe will cook up a storm together then relax in the park catching up with old and new friends. This will also be Sarah’s last event as part of the LPV team.\n\nFood\, soft drinks\, table and chairs provided but please feel free to bring a picnic blanket if you desire. This will be an alcohol-free event.\n\nPlease note: This is an adult only event for women and heterosexual men who are living with HIV. Partners are welcome.\n\n[button link="https://forms.livingpositivevictoria.org.au/civicrm/event/info?id=117&reset=1" newwindow="yes"] Register Here[/button]
URL:https://livingpositivevictoria.org.au/event/adult-social-lunch-2/
LOCATION:Victoria
END:VEVENT
END:VCALENDAR